BEGIN:VCALENDAR
VERSION:2.0
PRODID:-//ChamberMaster//Event Calendar 2.0//EN
METHOD:PUBLISH
X-PUBLISHED-TTL:P3D
REFRESH-INTERVAL:P3D
CALSCALE:GREGORIAN
BEGIN:VEVENT
DTSTART:20260604T210000Z
DTEND:20260604T230000Z
X-MICROSOFT-CDO-ALLDAYEVENT:FALSE
SUMMARY:Business After Hours: The Wedge Bar
DESCRIPTION:Join us for an evening of networking at The Wedge Bar. Our Business After Hours events are the perfect way to make meaningful connections with 50-70 local business professionals in a laid-back\, fun setting.\n\n\n\nWhat to expect:\n\n	Light bites\n	Cash Bar\n	Great conversation\n	Lots of connections (make sure to bring plenty of business cards)\n	Fun giveaways\n	50/50 Raffle\n\n\nSpotlight Tables: AC Plant & Turf and DRIVE Wellness\n\n\n\nDon't miss this opportunity to connect and grow your network in style.\n\nInterested in being a Member Spotlight? Email Olive at olive@oceancity.org and secure your spot today!
X-ALT-DESC;FMTTYPE=text/html:Join us for an evening of networking at The Wedge Bar.&nbsp\;Our Business After Hours events are the perfect way to make meaningful connections with 50-70 local business professionals in a laid-back\, fun setting.<br 0="" 1="" background-attachment:="" background-clip:="" background-image:="" background-origin:="" background-position:="" background-repeat:="" background-size:="" border-collapse:="" border-color:="" border-image:="" border-radius:="" border-style:="" border-width:="" font-feature-settings:="" font-kerning:="" font-language-override:="" font-optical-sizing:="" font-size-adjust:="" font-variation-settings:="" height:="" line-height:="" margin:="" max-height:="" max-width:="" min-height:="" min-width:="" none="" opacity:="" open="" outline-offset:="" overflow-wrap:="" overflow:="" padding:="" position:="" resize:="" table-layout:="" text-justify:="" text-overflow:="" vertical-align:="" visibility:="" width:="" word-break:="" z-index:="" />\n<br 0="" 1="" background-attachment:="" background-clip:="" background-image:="" background-origin:="" background-position:="" background-repeat:="" background-size:="" border-collapse:="" border-color:="" border-image:="" border-radius:="" border-style:="" border-width:="" font-feature-settings:="" font-kerning:="" font-language-override:="" font-optical-sizing:="" font-size-adjust:="" font-variation-settings:="" height:="" line-height:="" margin:="" max-height:="" max-width:="" min-height:="" min-width:="" none="" opacity:="" open="" outline-offset:="" overflow-wrap:="" overflow:="" padding:="" position:="" resize:="" table-layout:="" text-justify:="" text-overflow:="" vertical-align:="" visibility:="" width:="" word-break:="" z-index:="" />\n<strong>What to expect:</strong>\n<ul 0="" 1="" background-attachment:="" background-clip:="" background-image:="" background-origin:="" background-position:="" background-repeat:="" background-size:="" border-collapse:="" border-color:="" border-image:="" border-radius:="" border-style:="" border-width:="" box-shadow:="" font-feature-settings:="" font-kerning:="" font-language-override:="" font-optical-sizing:="" font-size-adjust:="" font-variation-settings:="" height:="" line-height:="" list-style-image:="" list-style-position:="" list-style:="" max-height:="" max-width:="" min-height:="" min-width:="" none="" opacity:="" open="" outline-offset:="" outside="" overflow-wrap:="" overflow:="" position:="" resize:="" table-layout:="" text-justify:="" text-overflow:="" vertical-align:="" visibility:="" width:="" word-break:="" z-index:="">\n	<li>Light bites</li>\n	<li>Cash Bar</li>\n	<li>Great conversation</li>\n	<li>Lots of connections (make sure to bring plenty of business cards)</li>\n	<li>Fun giveaways</li>\n	<li>50/50 Raffle</li>\n</ul>\n\n<p 0="" 1="" background-attachment:="" background-clip:="" background-image:="" background-origin:="" background-position:="" background-repeat:="" background-size:="" border-collapse:="" border-color:="" border-image:="" border-radius:="" border-style:="" border-width:="" box-shadow:="" clear:="" color:="" content:="" direction:="" empty-cells:="" float:="" font-feature-settings:="" font-kerning:="" font-language-override:="" font-optical-sizing:="" font-size-adjust:="" font-stretch:="" font-variant-alternates:="" font-variant-east-asian:="" font-variant-emoji:="" font-variant-numeric:="" font-variant-position:="" font-variation-settings:="" height:="" inset:="" line-height:="" max-height:="" max-width:="" min-height:="" min-width:="" none="" opacity:="" open="" outline-offset:="" overflow-wrap:="" overflow:="" padding:="" position:="" resize:="" table-layout:="" text-justify:="" text-overflow:="" vertical-align:="" visibility:="" width:="" word-break:="" z-index:=""><strong>Spotlight Tables</strong>:&nbsp\;<a href="https://www.arborcarede.com/" target="_blank">AC Plant &amp\; Turf</a> and <a href="https://drivewellness.fit/" target="_blank">DRIVE Wellness</a><br />\n<br />\nDon&#39\;t miss this opportunity to connect and grow your network in style.</p>\n\n<p 0="" 1="" background-attachment:="" background-clip:="" background-image:="" background-origin:="" background-position:="" background-repeat:="" background-size:="" border-collapse:="" border-color:="" border-image:="" border-radius:="" border-style:="" border-width:="" box-shadow:="" clear:="" color:="" content:="" direction:="" empty-cells:="" float:="" font-feature-settings:="" font-kerning:="" font-language-override:="" font-optical-sizing:="" font-size-adjust:="" font-stretch:="" font-variant-alternates:="" font-variant-east-asian:="" font-variant-emoji:="" font-variant-numeric:="" font-variant-position:="" font-variation-settings:="" height:="" inset:="" line-height:="" max-height:="" max-width:="" min-height:="" min-width:="" none="" opacity:="" open="" outline-offset:="" overflow-wrap:="" overflow:="" padding:="" position:="" resize:="" table-layout:="" text-justify:="" text-overflow:="" vertical-align:="" visibility:="" width:="" word-break:="" z-index:=""><strong>Interested in being a Member Spotlight?</strong>&nbsp\;Email Olive at&nbsp\;<a href="mailto:olie@oceancity.org?subject=I%27m%20interested%20in%20a%20Spotlight%20Table">olive@oceancity.org</a>&nbsp\;and secure your spot today!</p>\n
LOCATION:The Wedge Bar 806 South Atlantic Ave Ocean City\, MD 21842
UID:e.358.44270
SEQUENCE:3
DTSTAMP:20260424T232029Z
URL:https://chamber.oceancity.org/events/details/business-after-hours-the-wedge-bar-44270
END:VEVENT

END:VCALENDAR
