BEGIN:VCALENDAR
VERSION:2.0
PRODID:-//ChamberMaster//Event Calendar 2.0//EN
METHOD:PUBLISH
X-PUBLISHED-TTL:P3D
REFRESH-INTERVAL:P3D
CALSCALE:GREGORIAN
BEGIN:VEVENT
DTSTART:20260515T180000Z
DTEND:20260515T200000Z
X-MICROSOFT-CDO-ALLDAYEVENT:FALSE
SUMMARY:Free Artist Talk with Carly Whittington
DESCRIPTION:Get to know Baltimore native and former Art major at Towson University\, Carly Whittington and learn about how the beach reignited her love for art and continues to inspire her travel photography and abstract mixed media surfboards. Hear from a young emerging artist on finding time between owning her own business to create and taking the leap to pursue her passions. Meet other art enthusiasts\, ask questions\, and collect a piece today!\n\n \n\nAdvanced registration preferred.
X-ALT-DESC;FMTTYPE=text/html:<div>Get to know Baltimore native and former Art major at Towson University\, Carly Whittington and learn about how the beach reignited her love for art and continues to inspire her travel photography and abstract mixed media surfboards. Hear from a young emerging artist on finding time between owning her own business to create and taking the leap to pursue her passions. Meet other art enthusiasts\, ask questions\, and collect a piece today!</div>\n\n<div>&nbsp\;</div>\n\n<div>Advanced registration preferred.</div>\n
LOCATION:9403 Costal Highway
UID:e.358.45714
SEQUENCE:3
DTSTAMP:20260424T224417Z
URL:https://chamber.oceancity.org/events/details/free-artist-talk-with-carly-whittington-45714
END:VEVENT

END:VCALENDAR
