BEGIN:VCALENDAR
VERSION:2.0
PRODID:-//ChamberMaster//Event Calendar 2.0//EN
METHOD:PUBLISH
X-PUBLISHED-TTL:P3D
REFRESH-INTERVAL:P3D
CALSCALE:GREGORIAN
BEGIN:VEVENT
DTSTART:20260529T230000Z
DTEND:20260531T010000Z
X-MICROSOFT-CDO-ALLDAYEVENT:FALSE
SUMMARY:Godspell: A Lower Shore Performing Arts Company Production
DESCRIPTION:Showings:\n\nFri. May 29th\, 7-9pm\n\nSat. May 30\, 7-9pm\n\n \nGodspell (2012) is a masterful retelling of the original musical sensation\, injected with contemporary references and dazzling new arrangements. It was the first major musical theatre offering from three-time Grammy and Academy Award winner Stephen Schwartz (Wicked\, Pippin\, Children of Eden)\, and it took the world by storm. A small group of people help Jesus Christ tell different parables by using a wide variety of games\, storytelling techniques\, and a hefty dose of comic timing. An eclectic blend of songs\, ranging in style from pop to vaudeville\, is employed as the story of Jesus' life dances across the stage.\n\n \n\nPresented through special arrangement and is licensed with Music Theater International (MTI)\n\n \n\nDirected by Robert Forester\n\nAssistant Director Jan Bellistri\n\nProducer Kathryn Redden\n\nPresented through special arrangement and licensed with Music Theater International (MTI).\n\nDirector: Robert Forester\n\nAssistant Director: Jan Bellistri\n\nProducer: Kathryn Redden
X-ALT-DESC;FMTTYPE=text/html:<div>Showings:<br />\nFri. May 29th\, 7-9pm</div>\n\n<div>Sat. May 30\, 7-9pm</div>\n\n<div>&nbsp\;</div>\n<span style="color:rgb(47\, 47\, 47)\; font-family:pt sans\,sans-serif\; font-size:16px">Godspell (2012) is a masterful retelling of the original musical sensation\, injected with contemporary references and dazzling new arrangements. It was the first major musical theatre offering from three-time Grammy and Academy Award winner Stephen Schwartz (Wicked\, Pippin\, Children of Eden)\, and it took the world by storm. A small group of people help Jesus Christ tell different parables by using a wide variety of games\, storytelling techniques\, and a hefty dose of comic timing. An eclectic blend of songs\, ranging in style from pop to vaudeville\, is employed as the story of Jesus&rsquo\; life dances across the stage.</span>\n\n<div>&nbsp\;\n<div>\n<div>Presented through special arrangement and is licensed with Music Theater International (MTI)<br />\n&nbsp\;</div>\n\n<div>Directed by Robert Forester</div>\n\n<div>Assistant Director Jan Bellistri</div>\n\n<div>Producer Kathryn Redden</div>\n\n<div>Presented through special arrangement and licensed with Music Theater International (MTI).</div>\n\n<div>Director: Robert Forester</div>\n\n<div>Assistant Director: Jan Bellistri</div>\n\n<div>Producer: Kathryn Redden</div>\n</div>\n</div>\n
LOCATION:502 94th Street\, Ocean City\, MD\, 21842
UID:e.358.45716
SEQUENCE:3
DTSTAMP:20260424T224418Z
URL:https://chamber.oceancity.org/events/details/godspell-a-lower-shore-performing-arts-company-production-45716
END:VEVENT

END:VCALENDAR
