BEGIN:VCALENDAR
VERSION:2.0
PRODID:-//ChamberMaster//Event Calendar 2.0//EN
METHOD:PUBLISH
X-PUBLISHED-TTL:P3D
REFRESH-INTERVAL:P3D
CALSCALE:GREGORIAN
BEGIN:VEVENT
DTSTART:20260610T040000Z
DTEND:20260610T200000Z
X-MICROSOFT-CDO-ALLDAYEVENT:FALSE
SUMMARY:GOLD on the Green - Charity Golf Tournament
DESCRIPTION:The 11th annual GOLD on the Green Charity Golf Tournament\n\nis the chief fundraising event in support of our Emergency Financial Assistance Program. The event takes place at Ocean City Golf Club & the Newport Bay Golf Course on June 10th. \n\nProceeds benefit Worcester GOLD\, a 501(c)(3) registered charitable organization improving the quality of life for Worcester County residents living in low-income circumstances by providing emergency financial assistance and items to meet basic needs.
X-ALT-DESC;FMTTYPE=text/html:<h2><strong><span style="color:#006400">The 11th annual GOLD on the Green Charity Golf Tournament</span></strong></h2>\n\n<p><span style="color:#006400">is the chief fundraising event in support of our Emergency Financial Assistance Program. The event takes place at Ocean City Golf Club &amp\; the Newport Bay Golf Course on June 10th.&nbsp\;</span></p>\n\n<p><span style="color:rgb(0\, 100\, 0)">Proceeds benefit Worcester GOLD\, a 501(c)(3) registered charitable organization improving the quality of life for Worcester County residents living in low-income circumstances by providing emergency financial assistance and items to meet basic needs.</span></p>\n
LOCATION:This event is held at the Ocean City Golf Club and Newport Bay Courses\, located on Country Club Drive at the foot of Route 611 and South Point Road 11401 Country Club Dr\, Berlin\, MD 21811
UID:e.358.45711
SEQUENCE:3
DTSTAMP:20260424T224606Z
URL:https://chamber.oceancity.org/events/details/gold-on-the-green-charity-golf-tournament-45711
END:VEVENT

END:VCALENDAR
