BEGIN:VCALENDAR
VERSION:2.0
PRODID:-//ChamberMaster//Event Calendar 2.0//EN
METHOD:PUBLISH
X-PUBLISHED-TTL:P3D
REFRESH-INTERVAL:P3D
CALSCALE:GREGORIAN
BEGIN:VEVENT
DTSTART:20260624T130000Z
DTEND:20260624T200000Z
X-MICROSOFT-CDO-ALLDAYEVENT:FALSE
SUMMARY:Inaugural OC Power Squadron Golf Tournament
DESCRIPTION:Inaugural OC Power Squadron Golf Tournament - for the Macky & Pam Stansell House Hospice.
X-ALT-DESC;FMTTYPE=text/html:<p>Inaugural OC Power Squadron Golf Tournament - for the&nbsp\;Macky &amp\; Pam Stansell House Hospice.&nbsp\;</p>\n\n<p><br />\n&nbsp\;</p>\n
LOCATION:Ocean Pines Golf Club 100 Clubhouse Drive Ocean Pines\, MD 21811
UID:e.358.45709
SEQUENCE:3
DTSTAMP:20260422T182517Z
URL:https://chamber.oceancity.org/events/details/inaugural-oc-power-squadron-golf-tournament-45709
END:VEVENT

END:VCALENDAR
