BEGIN:VCALENDAR
VERSION:2.0
PRODID:-//ChamberMaster//Event Calendar 2.0//EN
METHOD:PUBLISH
X-PUBLISHED-TTL:P3D
REFRESH-INTERVAL:P3D
CALSCALE:GREGORIAN
BEGIN:VEVENT
DTSTART:20260514T150000Z
DTEND:20260514T160000Z
X-MICROSOFT-CDO-ALLDAYEVENT:FALSE
SUMMARY:Ribbon Cutting: G. Fedale Roofing & Siding
DESCRIPTION:Join us as we welcome G. Fedale's new location in Ocean City\, expanding service to customers throughout Maryland's Eastern Shore. Community members\, business leaders\, and residents are invited to attend and help celebrate this exciting addition to the region.\n\n\n\nG. Fedale is known for its exceptional customer service\, professional crews\, and commitment to excellence. They take pride in every detail   from the quality of the materials they install to the way they answer your call. Their full-time\, OSHA-trained employees are held to the highest industry standards\, and their relationships with top manufacturers ensure competitive pricing and the best warranties available. They believe every home deserves to be safe\, beautiful\, and built to last.\n\n\n\nThe event will provide an opportunity to meet the G. Fedale team\, learn more about their services\, and celebrate their commitment to the area's ongoing development.
X-ALT-DESC;FMTTYPE=text/html:Join us as we welcome<strong> G. Fedale&#39\;s&nbsp\;</strong>new location in Ocean City\, expanding service to customers throughout Maryland&rsquo\;s Eastern Shore.&nbsp\;Community members\, business leaders\, and residents are invited to attend and help celebrate this exciting addition to the region.<br />\n<br />\nG. Fedale is known for its exceptional customer service\, professional crews\, and commitment to excellence. They take pride in every detail &ndash\; from the quality of the materials they install to the way they answer your call. Their full-time\, OSHA-trained employees are held to the highest industry standards\, and their relationships with top manufacturers ensure competitive pricing and the best warranties available. They believe every home deserves to be safe\, beautiful\, and built to last.<br />\n<br />\nThe event will provide an opportunity to meet the G. Fedale team\, learn more about their services\, and celebrate their commitment to the area&rsquo\;s ongoing development.
LOCATION:G. Fedale Roofing & Siding 11722 Grays Corner Road Berlin\, MD
UID:e.358.45722
SEQUENCE:3
DTSTAMP:20260424T232558Z
URL:https://chamber.oceancity.org/events/details/ribbon-cutting-g-fedale-roofing-siding-45722
END:VEVENT

END:VCALENDAR
