BEGIN:VCALENDAR
VERSION:2.0
PRODID:-//ChamberMaster//Event Calendar 2.0//EN
METHOD:PUBLISH
X-PUBLISHED-TTL:P3D
REFRESH-INTERVAL:P3D
CALSCALE:GREGORIAN
BEGIN:VEVENT
DTSTART:20260521T203000Z
DTEND:20260521T213000Z
X-MICROSOFT-CDO-ALLDAYEVENT:FALSE
SUMMARY:Ribbon Cutting: The Core Club Cafe & Studio
DESCRIPTION:Join us and The Core Club Team to celebrate their new 81st Street location in Ocean City and get a first look at the new space\, meet the team\, enjoy light refreshments\, and experience the energy of a growing wellness community in Ocean City.\n\n\n\nThe Core Club Cafe & Studio is Ocean City's first Heated Sculpt & Barre Studio - bringing a refined\, results-driven approach to movement alongside The Juice Cafe offering fresh juices\, coffee and nourishing bites.
X-ALT-DESC;FMTTYPE=text/html:Join us and The Core Club Team to celebrate their new 81st Street location in Ocean City and get a first look at the new space\, meet the team\, enjoy light refreshments\, and experience the energy of a growing wellness community in Ocean City.<br />\n<br />\nThe Core Club Cafe &amp\; Studio is Ocean City&#39\;s first Heated Sculpt &amp\; Barre Studio - bringing a refined\, results-driven approach to movement alongside The Juice Cafe offering fresh juices\, coffee and nourishing bites.<br />\n<br />\n&nbsp\;
LOCATION:The Core Club Cafe & Studio 8019 Coastal Highway Ocean City\, MD
UID:e.358.45715
SEQUENCE:3
DTSTAMP:20260424T224342Z
URL:https://chamber.oceancity.org/events/details/ribbon-cutting-the-core-club-cafe-studio-45715
END:VEVENT

END:VCALENDAR
