BEGIN:VCALENDAR
VERSION:2.0
PRODID:-//ChamberMaster//Event Calendar 2.0//EN
METHOD:PUBLISH
X-PUBLISHED-TTL:P3D
REFRESH-INTERVAL:P3D
CALSCALE:GREGORIAN
BEGIN:VEVENT
DTSTART:20260624T230000Z
DTEND:20260625T020000Z
X-MICROSOFT-CDO-ALLDAYEVENT:FALSE
SUMMARY:Seacrets & Ocean 98 Summer Concert Series Presents: BALLYHOO!
DESCRIPTION:The Seacrets & Ocean 98 Summer Concert Series presents Ballyhoo! live at Seacrets Beach Stage on Wednesday\, June 24th! Featuring special guest The Harbor Boys\, this 21+ show kicks off with doors opening at 7 PM. Enjoy a night of beachside vibes\, live music\, and summer energy you won't want to miss. Tickets available via LineLeap.
X-ALT-DESC;FMTTYPE=text/html:The Seacrets &amp\; Ocean 98 Summer Concert Series presents Ballyhoo! live at Seacrets Beach Stage on Wednesday\, June 24th! Featuring special guest The Harbor Boys\, this 21+ show kicks off with doors opening at 7 PM. Enjoy a night of beachside vibes\, live music\, and summer energy you won&rsquo\;t want to miss.&nbsp\;Tickets available via LineLeap.
LOCATION:Seacrets 117 49th st
UID:e.358.45718
SEQUENCE:3
DTSTAMP:20260424T224526Z
URL:https://chamber.oceancity.org/events/details/seacrets-ocean-98-summer-concert-series-presents-ballyhoo-45718
END:VEVENT

END:VCALENDAR
