BEGIN:VCALENDAR
VERSION:2.0
PRODID:-//ChamberMaster//Event Calendar 2.0//EN
METHOD:PUBLISH
X-PUBLISHED-TTL:P3D
REFRESH-INTERVAL:P3D
CALSCALE:GREGORIAN
BEGIN:VEVENT
DTSTART:20260903T230000Z
DTEND:20260904T020000Z
X-MICROSOFT-CDO-ALLDAYEVENT:FALSE
SUMMARY:Seacrets & Ocean 98 Summer Concert Series Presents: Collie Buddz
DESCRIPTION:Seacrets & Ocean 98 Summer Concert Series presents Collie Buddz live at the Seacrets Beach Stage on Thursday\, September 3rd. This 21+ show kicks off with doors opening at 7 PM\, with entry priced at $20 and available for pre-purchase via the LineLeap app don't miss this high-energy night of music by the beach!
X-ALT-DESC;FMTTYPE=text/html:Seacrets &amp\; Ocean 98 Summer Concert Series presents Collie Buddz live at the Seacrets Beach Stage on Thursday\, September 3rd. This 21+ show kicks off with doors opening at 7 PM\, with entry priced at $20 and available for pre-purchase via the LineLeap app&mdash\;don&rsquo\;t miss this high-energy night of music by the beach!
LOCATION:Seacrets 117 49th st
UID:e.358.45721
SEQUENCE:3
DTSTAMP:20260424T235632Z
URL:https://chamber.oceancity.org/events/details/seacrets-ocean-98-summer-concert-series-presents-collie-buddz-45721
END:VEVENT

END:VCALENDAR
