BEGIN:VCALENDAR
VERSION:2.0
PRODID:-//ChamberMaster//Event Calendar 2.0//EN
METHOD:PUBLISH
X-PUBLISHED-TTL:P3D
REFRESH-INTERVAL:P3D
CALSCALE:GREGORIAN
BEGIN:VEVENT
DTSTART:20260701T230000Z
DTEND:20260702T020000Z
X-MICROSOFT-CDO-ALLDAYEVENT:FALSE
SUMMARY:Seacrets & Ocean 98 Summer Concert Series Presents: Luke Borchelt
DESCRIPTION:The Seacrets & Ocean 98 Summer Concert Series presents Luke Borchelt live at Seacrets Beach Stage on Wednesday\, July 1st. This 21+ show kicks off with doors opening at 7 PM join us for a great night of live country music by the water.
X-ALT-DESC;FMTTYPE=text/html:<p>The Seacrets &amp\; Ocean 98 Summer Concert Series presents Luke Borchelt live at Seacrets Beach Stage on Wednesday\, July 1st. This 21+ show kicks off with doors opening at 7 PM&mdash\;join us for a great night of live country music by the water.</p>\n
LOCATION:Seacrets 117 49th st
UID:e.358.45717
SEQUENCE:3
DTSTAMP:20260425T013357Z
URL:https://chamber.oceancity.org/events/details/seacrets-ocean-98-summer-concert-series-presents-luke-borchelt-45717
END:VEVENT

END:VCALENDAR
