BEGIN:VCALENDAR
VERSION:2.0
PRODID:-//ChamberMaster//Event Calendar 2.0//EN
METHOD:PUBLISH
X-PUBLISHED-TTL:P3D
REFRESH-INTERVAL:P3D
CALSCALE:GREGORIAN
BEGIN:VEVENT
DTSTART:20260812T230000Z
DTEND:20260813T020000Z
X-MICROSOFT-CDO-ALLDAYEVENT:FALSE
SUMMARY:Seacrets & Ocean 98 Summer Concert Series Presents: The Expendables
DESCRIPTION:Catch The Expendables live at Seacrets Beach Stage on Wednesday\, August 12th as part of the Seacrets & Ocean 98 Summer Concert Series. This 21+ show kicks off with doors opening at 7 PM\, with entry $15 at the door or available for pre-purchase via the LineLeap app don't miss this high-energy night of music by the beach!
X-ALT-DESC;FMTTYPE=text/html:Catch The Expendables live at Seacrets Beach Stage on Wednesday\, August 12th as part of the Seacrets &amp\; Ocean 98 Summer Concert Series. This 21+ show kicks off with doors opening at 7 PM\, with entry $15 at the door or available for pre-purchase via the LineLeap app&mdash\;don&rsquo\;t miss this high-energy night of music by the beach!
LOCATION:Seacrets 117 49th st
UID:e.358.45720
SEQUENCE:3
DTSTAMP:20260425T012418Z
URL:https://chamber.oceancity.org/events/details/seacrets-ocean-98-summer-concert-series-presents-the-expendables-45720
END:VEVENT

END:VCALENDAR
