BEGIN:VCALENDAR
VERSION:2.0
PRODID:-//ChamberMaster//Event Calendar 2.0//EN
METHOD:PUBLISH
X-PUBLISHED-TTL:P3D
REFRESH-INTERVAL:P3D
CALSCALE:GREGORIAN
BEGIN:VEVENT
DTSTART:20260708T230000Z
DTEND:20260709T020000Z
X-MICROSOFT-CDO-ALLDAYEVENT:FALSE
SUMMARY:Seacrets & Ocean 98 Summer Concert Series Presents: Wheeland Brothers
DESCRIPTION:Seacrets & Ocean 98 Summer Concert Series presents Wheeland Brothers with special guest Dylan Cotrone live on the Beach Stage on Wednesday\, July 8th\, with doors opening at 7PM\, a $5 cover available for pre-purchase on LineLeap\, and a 21+ admission for a night of live music and beach bar vibes.
X-ALT-DESC;FMTTYPE=text/html:Seacrets &amp\; Ocean 98 Summer Concert Series presents Wheeland Brothers with special guest Dylan Cotrone live on the Beach Stage on Wednesday\, July 8th\, with doors opening at 7PM\, a $5 cover available for pre-purchase on LineLeap\, and a 21+ admission for a night of live music and beach bar vibes.
LOCATION:Seacrets 117 49th st
UID:e.358.45719
SEQUENCE:3
DTSTAMP:20260425T013921Z
URL:https://chamber.oceancity.org/events/details/seacrets-ocean-98-summer-concert-series-presents-wheeland-brothers-45719
END:VEVENT

END:VCALENDAR
